BEGIN:VCALENDAR
VERSION:2.0
PRODID:-//hacksw/handcal//NONSGML v1.0//EN
CALSCALE:GREGORIAN
BEGIN:VEVENT
DTSTART:20230807T190000Z
DTEND:20230807T200000Z
UID:99908-opensimworld.com
DTSTAMP:20260425T002550Z
LOCATION:gentlefire.opensim.fun:8002:Lampadusa
URL;VALUE=URI: http://opensimworld.com/event/99908
SUMMARY:DJ Howie plays country 
END:VEVENT
END:VCALENDAR