BEGIN:VCALENDAR
VERSION:2.0
PRODID:-//hacksw/handcal//NONSGML v1.0//EN
CALSCALE:GREGORIAN
BEGIN:VEVENT
DTSTART:20230802T230000Z
DTEND:20230803T000000Z
UID:99796-opensimworld.com
DTSTAMP:20260422T181138Z
LOCATION:login.barefoot-dreamers.com:8002:Welcome 2 Live Events
URL;VALUE=URI: http://opensimworld.com/event/99796
SUMMARY:EVAN WILLIAMS LIVE @BAREFOOT DREAMERS
END:VEVENT
END:VCALENDAR