BEGIN:VCALENDAR
VERSION:2.0
PRODID:-//hacksw/handcal//NONSGML v1.0//EN
CALSCALE:GREGORIAN
BEGIN:VEVENT
DTSTART:20230717T190000Z
DTEND:20230717T200000Z
UID:99421-opensimworld.com
DTSTAMP:20260425T002549Z
LOCATION:gentlefire.opensim.fun:8002:Lampadusa
URL;VALUE=URI: http://opensimworld.com/event/99421
SUMMARY:DJ Howie @ the Jungle Club Lampadusa
END:VEVENT
END:VCALENDAR