BEGIN:VCALENDAR
VERSION:2.0
PRODID:-//hacksw/handcal//NONSGML v1.0//EN
CALSCALE:GREGORIAN
BEGIN:VEVENT
DTSTART:20230628T200000Z
DTEND:20230628T210000Z
UID:98980-opensimworld.com
DTSTAMP:20260423T201759Z
LOCATION:gentlefire.opensim.fun:8002:Dreamweaver
URL;VALUE=URI: http://opensimworld.com/event/98980
SUMMARY:music out the kazoo or all genre
END:VEVENT
END:VCALENDAR