BEGIN:VCALENDAR
VERSION:2.0
PRODID:-//hacksw/handcal//NONSGML v1.0//EN
CALSCALE:GREGORIAN
BEGIN:VEVENT
DTSTART:20230623T190000Z
DTEND:20230623T200000Z
UID:98860-opensimworld.com
DTSTAMP:20260425T002547Z
LOCATION:gentlefire.opensim.fun:8002:Lampadusa
URL;VALUE=URI: http://opensimworld.com/event/98860
SUMMARY:DJ Howie @ the Jungle Club Lampadusa
END:VEVENT
END:VCALENDAR