BEGIN:VCALENDAR
VERSION:2.0
PRODID:-//hacksw/handcal//NONSGML v1.0//EN
CALSCALE:GREGORIAN
BEGIN:VEVENT
DTSTART:20230609T200000Z
DTEND:20230609T210000Z
UID:98590-opensimworld.com
DTSTAMP:20260423T201756Z
LOCATION:grid.kitely.com:8002:Kat\'s Autumn Castle
URL;VALUE=URI: http://opensimworld.com/event/98590
SUMMARY:Open Metaverse Research Group
END:VEVENT
END:VCALENDAR