BEGIN:VCALENDAR
VERSION:2.0
PRODID:-//hacksw/handcal//NONSGML v1.0//EN
CALSCALE:GREGORIAN
BEGIN:VEVENT
DTSTART:20230422T210000Z
DTEND:20230422T220000Z
UID:97417-opensimworld.com
DTSTAMP:20260424T060029Z
LOCATION:alternatemetaverse.com:8002:RidgeWay Falls
URL;VALUE=URI: http://opensimworld.com/event/97417
SUMMARY:HARPER & SUM DUAL STREAMING @ BACKSTAGE PASS hop://alternatemetaverse.com:8002/RidgeWay%20Falls/201/64/23
END:VEVENT
END:VCALENDAR