BEGIN:VCALENDAR
VERSION:2.0
PRODID:-//hacksw/handcal//NONSGML v1.0//EN
CALSCALE:GREGORIAN
BEGIN:VEVENT
DTSTART:20230421T190000Z
DTEND:20230421T200000Z
UID:97393-opensimworld.com
DTSTAMP:20260420T052136Z
LOCATION:alternatemetaverse.com:8002:Daur Anarie
URL;VALUE=URI: http://opensimworld.com/event/97393
SUMMARY:Elf Dream meetings & storytelling! 
END:VEVENT
END:VCALENDAR