BEGIN:VCALENDAR
VERSION:2.0
PRODID:-//hacksw/handcal//NONSGML v1.0//EN
CALSCALE:GREGORIAN
BEGIN:VEVENT
DTSTART:20230405T190000Z
DTEND:20230405T200000Z
UID:97000-opensimworld.com
DTSTAMP:20260423T155402Z
LOCATION:login.newhopegrid.com:8002:NHG Welcome Center
URL;VALUE=URI: http://opensimworld.com/event/97000
SUMMARY:JOAO FRAZAO Live Noon @New Hope Events Stage
END:VEVENT
END:VCALENDAR