BEGIN:VCALENDAR
VERSION:2.0
PRODID:-//hacksw/handcal//NONSGML v1.0//EN
CALSCALE:GREGORIAN
BEGIN:VEVENT
DTSTART:20230401T210000Z
DTEND:20230401T220000Z
UID:96892-opensimworld.com
DTSTAMP:20260424T040507Z
LOCATION:alternatemetaverse.com:8002:RidgeWay Falls
URL;VALUE=URI: http://opensimworld.com/event/96892
SUMMARY:HARPER & SUM \"THE DYNAMIC DUO\" DUAL STREAMING 
END:VEVENT
END:VCALENDAR