BEGIN:VCALENDAR
VERSION:2.0
PRODID:-//hacksw/handcal//NONSGML v1.0//EN
CALSCALE:GREGORIAN
BEGIN:VEVENT
DTSTART:20230329T170000Z
DTEND:20230329T180000Z
UID:96812-opensimworld.com
DTSTAMP:20260424T052453Z
LOCATION:login.osgrid.org:80:ALBAGUSILAND
URL;VALUE=URI: http://opensimworld.com/event/96812
SUMMARY:dj gusano
END:VEVENT
END:VCALENDAR