BEGIN:VCALENDAR
VERSION:2.0
PRODID:-//hacksw/handcal//NONSGML v1.0//EN
CALSCALE:GREGORIAN
BEGIN:VEVENT
DTSTART:20230329T190000Z
DTEND:20230329T200000Z
UID:96746-opensimworld.com
DTSTAMP:20260423T155425Z
LOCATION:login.newhopegrid.com:8002:NHG Welcome Center
URL;VALUE=URI: http://opensimworld.com/event/96746
SUMMARY:JOAO FRAZAO Live Noon @New Hope Events Stage
END:VEVENT
END:VCALENDAR