BEGIN:VCALENDAR
VERSION:2.0
PRODID:-//hacksw/handcal//NONSGML v1.0//EN
CALSCALE:GREGORIAN
BEGIN:VEVENT
DTSTART:20230325T210000Z
DTEND:20230325T220000Z
UID:96718-opensimworld.com
DTSTAMP:20260424T060028Z
LOCATION:alternatemetaverse.com:8002:RidgeWay Falls
URL;VALUE=URI: http://opensimworld.com/event/96718
SUMMARY:Harper & Sum Dual Streaming @ AMV
END:VEVENT
END:VCALENDAR