BEGIN:VCALENDAR
VERSION:2.0
PRODID:-//hacksw/handcal//NONSGML v1.0//EN
CALSCALE:GREGORIAN
BEGIN:VEVENT
DTSTART:20230322T190000Z
DTEND:20230322T200000Z
UID:96667-opensimworld.com
DTSTAMP:20260423T155423Z
LOCATION:login.newhopegrid.com:8002:NHG Welcome Center
URL;VALUE=URI: http://opensimworld.com/event/96667
SUMMARY:JOAO FRAZAO Live Noon @New Hope Events Stage
END:VEVENT
END:VCALENDAR