BEGIN:VCALENDAR
VERSION:2.0
PRODID:-//hacksw/handcal//NONSGML v1.0//EN
CALSCALE:GREGORIAN
BEGIN:VEVENT
DTSTART:20230318T210000Z
DTEND:20230318T220000Z
UID:96610-opensimworld.com
DTSTAMP:20260423T055708Z
LOCATION:alternatemetaverse.com:8002:RidgeWay Falls
URL;VALUE=URI: http://opensimworld.com/event/96610
SUMMARY:Harper & Sum (Dual Streaming) Peforming
END:VEVENT
END:VCALENDAR