BEGIN:VCALENDAR
VERSION:2.0
PRODID:-//hacksw/handcal//NONSGML v1.0//EN
CALSCALE:GREGORIAN
BEGIN:VEVENT
DTSTART:20230316T190000Z
DTEND:20230316T200000Z
UID:96495-opensimworld.com
DTSTAMP:20260424T085525Z
LOCATION:login.newhopegrid.com:8002:Four Seasons Ballroom
URL;VALUE=URI: http://opensimworld.com/event/96495
SUMMARY:DJ SARAH MOON 12pm at Four Seasons Ballroom
END:VEVENT
END:VCALENDAR