BEGIN:VCALENDAR
VERSION:2.0
PRODID:-//hacksw/handcal//NONSGML v1.0//EN
CALSCALE:GREGORIAN
BEGIN:VEVENT
DTSTART:20230318T010000Z
DTEND:20230318T020000Z
UID:96492-opensimworld.com
DTSTAMP:20260423T155427Z
LOCATION:login.newhopegrid.com:8002:NHG Welcome Center
URL;VALUE=URI: http://opensimworld.com/event/96492
SUMMARY:DJ STRUMMER 6pm @NHG Welcome Center Stage
END:VEVENT
END:VCALENDAR