BEGIN:VCALENDAR
VERSION:2.0
PRODID:-//hacksw/handcal//NONSGML v1.0//EN
CALSCALE:GREGORIAN
BEGIN:VEVENT
DTSTART:20230313T210000Z
DTEND:20230313T220000Z
UID:96489-opensimworld.com
DTSTAMP:20260423T155428Z
LOCATION:login.newhopegrid.com:8002:NHG Welcome Center
URL;VALUE=URI: http://opensimworld.com/event/96489
SUMMARY:PUTRI SOLO Live 2pm NHG Welcome Center Stage
END:VEVENT
END:VCALENDAR