BEGIN:VCALENDAR
VERSION:2.0
PRODID:-//hacksw/handcal//NONSGML v1.0//EN
CALSCALE:GREGORIAN
BEGIN:VEVENT
DTSTART:20230225T201500Z
DTEND:20230225T211500Z
UID:95879-opensimworld.com
DTSTAMP:20260422T155352Z
LOCATION:atlasgrid.fr:8002:Atlas
URL;VALUE=URI: http://opensimworld.com/event/95879
SUMMARY:ATLAS Fashion Show
END:VEVENT
END:VCALENDAR