BEGIN:VCALENDAR
VERSION:2.0
PRODID:-//hacksw/handcal//NONSGML v1.0//EN
CALSCALE:GREGORIAN
BEGIN:VEVENT
DTSTART:20230203T150000Z
DTEND:20230203T160000Z
UID:95551-opensimworld.com
DTSTAMP:20260422T022545Z
LOCATION:hg.osgrid.org:80:Wright Plaza
URL;VALUE=URI: http://opensimworld.com/event/95551
SUMMARY:Friday Event Plaza Osgrid
END:VEVENT
END:VCALENDAR