BEGIN:VCALENDAR
VERSION:2.0
PRODID:-//hacksw/handcal//NONSGML v1.0//EN
CALSCALE:GREGORIAN
BEGIN:VEVENT
DTSTART:20230112T180000Z
DTEND:20230112T190000Z
UID:94819-opensimworld.com
DTSTAMP:20260422T033626Z
LOCATION:login.barefoot-dreamers.com:8002:Barefoot Dreamers Welcome
URL;VALUE=URI: http://opensimworld.com/event/94819
SUMMARY:VARDA LIVE PERFORMER
END:VEVENT
END:VCALENDAR