BEGIN:VCALENDAR
VERSION:2.0
PRODID:-//hacksw/handcal//NONSGML v1.0//EN
CALSCALE:GREGORIAN
BEGIN:VEVENT
DTSTART:20221231T220000Z
DTEND:20221231T230000Z
UID:94749-opensimworld.com
DTSTAMP:20260424T085520Z
LOCATION:craft-world.org:8002:Osteria
URL;VALUE=URI: http://opensimworld.com/event/94749
SUMMARY:Veglione di San Silvestro
END:VEVENT
END:VCALENDAR