BEGIN:VCALENDAR
VERSION:2.0
PRODID:-//hacksw/handcal//NONSGML v1.0//EN
CALSCALE:GREGORIAN
BEGIN:VEVENT
DTSTART:20241221T210000Z
DTEND:20241221T220000Z
UID:94541-opensimworld.com
DTSTAMP:20260423T215939Z
LOCATION:alternatemetaverse.com:8002:Christmas Market
URL;VALUE=URI: http://opensimworld.com/event/94541
SUMMARY:1pm Icky Thump Live - Winter Ballroom
END:VEVENT
END:VCALENDAR