BEGIN:VCALENDAR
VERSION:2.0
PRODID:-//hacksw/handcal//NONSGML v1.0//EN
CALSCALE:GREGORIAN
BEGIN:VEVENT
DTSTART:20221216T220000Z
DTEND:20221216T230000Z
UID:94475-opensimworld.com
DTSTAMP:20260424T000422Z
LOCATION:astralia.eu:8002:TheSoundOfMusic
URL;VALUE=URI: http://opensimworld.com/event/94475
SUMMARY:DJ SPONCY  A TEMA NATALE 
END:VEVENT
END:VCALENDAR