BEGIN:VCALENDAR
VERSION:2.0
PRODID:-//hacksw/handcal//NONSGML v1.0//EN
CALSCALE:GREGORIAN
BEGIN:VEVENT
DTSTART:20221031T234700Z
DTEND:20221101T004700Z
UID:93324-opensimworld.com
DTSTAMP:20260425T002548Z
LOCATION:gentlefire.opensim.fun:8002:Lampadusa
URL;VALUE=URI: http://opensimworld.com/event/93324
SUMMARY:Halloween @ the Hellfire Club
END:VEVENT
END:VCALENDAR