BEGIN:VCALENDAR
VERSION:2.0
PRODID:-//hacksw/handcal//NONSGML v1.0//EN
CALSCALE:GREGORIAN
BEGIN:VEVENT
DTSTART:20221028T200000Z
DTEND:20221028T210000Z
UID:93197-opensimworld.com
DTSTAMP:20260420T102555Z
LOCATION:utopiaskyegrid.com:8002:Kingston
URL;VALUE=URI: http://opensimworld.com/event/93197
SUMMARY:Ballroom Halloween Formal at The Oasis Costumes Optional
END:VEVENT
END:VCALENDAR