BEGIN:VCALENDAR
VERSION:2.0
PRODID:-//hacksw/handcal//NONSGML v1.0//EN
CALSCALE:GREGORIAN
BEGIN:VEVENT
DTSTART:20221021T200000Z
DTEND:20221021T210000Z
UID:93196-opensimworld.com
DTSTAMP:20260420T102556Z
LOCATION:utopiaskyegrid.com:8002:Kingston
URL;VALUE=URI: http://opensimworld.com/event/93196
SUMMARY:Ballroom Formal at The Oasis 
END:VEVENT
END:VCALENDAR