BEGIN:VCALENDAR
VERSION:2.0
PRODID:-//hacksw/handcal//NONSGML v1.0//EN
CALSCALE:GREGORIAN
BEGIN:VEVENT
DTSTART:20221021T080000Z
DTEND:20221021T090000Z
UID:93195-opensimworld.com
DTSTAMP:20260420T113144Z
LOCATION:utopiaskyegrid.com:8002:Kingston
URL;VALUE=URI: http://opensimworld.com/event/93195
SUMMARY:Ballroom Formal at The Oasis
END:VEVENT
END:VCALENDAR