BEGIN:VCALENDAR
VERSION:2.0
PRODID:-//hacksw/handcal//NONSGML v1.0//EN
CALSCALE:GREGORIAN
BEGIN:VEVENT
DTSTART:20221013T200000Z
DTEND:20221013T210000Z
UID:93039-opensimworld.com
DTSTAMP:20260424T202752Z
LOCATION:pangeagrid.de:8002:End of Days
URL;VALUE=URI: http://opensimworld.com/event/93039
SUMMARY:Opening Terra Merhyem\'s ART INSTALLATION & CONCERT ************ ------>> \" The 4 HORSERIDERS of APOCALYPSE \"
END:VEVENT
END:VCALENDAR