BEGIN:VCALENDAR
VERSION:2.0
PRODID:-//hacksw/handcal//NONSGML v1.0//EN
CALSCALE:GREGORIAN
BEGIN:VEVENT
DTSTART:20221014T200000Z
DTEND:20221014T210000Z
UID:93008-opensimworld.com
DTSTAMP:20260420T102556Z
LOCATION:utopiaskyegrid.com:8002:Kingston
URL;VALUE=URI: http://opensimworld.com/event/93008
SUMMARY:Ballroom / Formal at The Oasis  -- Two Birds-One Stone 419/175/103
END:VEVENT
END:VCALENDAR