BEGIN:VCALENDAR
VERSION:2.0
PRODID:-//hacksw/handcal//NONSGML v1.0//EN
CALSCALE:GREGORIAN
BEGIN:VEVENT
DTSTART:20220924T190000Z
DTEND:20220924T200000Z
UID:92524-opensimworld.com
DTSTAMP:20260421T091729Z
LOCATION:virtualdream-grid.com:8002:Somewhere in Paradise
URL;VALUE=URI: http://opensimworld.com/event/92524
SUMMARY:DJ BRAD NIGHT @ OCEAN BEACH
END:VEVENT
END:VCALENDAR