BEGIN:VCALENDAR
VERSION:2.0
PRODID:-//hacksw/handcal//NONSGML v1.0//EN
CALSCALE:GREGORIAN
BEGIN:VEVENT
DTSTART:20220730T180000Z
DTEND:20220730T190000Z
UID:91557-opensimworld.com
DTSTAMP:20260423T211017Z
LOCATION:moonrose-grid.de:8002:Dance Hall
URL;VALUE=URI: http://opensimworld.com/event/91557
SUMMARY:Partytimein dwer Dance Hall
END:VEVENT
END:VCALENDAR