BEGIN:VCALENDAR
VERSION:2.0
PRODID:-//hacksw/handcal//NONSGML v1.0//EN
CALSCALE:GREGORIAN
BEGIN:VEVENT
DTSTART:20220716T180000Z
DTEND:20220716T190000Z
UID:91058-opensimworld.com
DTSTAMP:20260424T135136Z
LOCATION:iceladygrid.de:8002:Rivo Torto
URL;VALUE=URI: http://opensimworld.com/event/91058
SUMMARY:7 Jahre Iceladygrid
END:VEVENT
END:VCALENDAR