BEGIN:VCALENDAR
VERSION:2.0
PRODID:-//hacksw/handcal//NONSGML v1.0//EN
CALSCALE:GREGORIAN
BEGIN:VEVENT
DTSTART:20220407T203000Z
DTEND:20220407T213000Z
UID:87630-opensimworld.com
DTSTAMP:20260424T035355Z
LOCATION:astralia.eu:8002:AMS
URL;VALUE=URI: http://opensimworld.com/event/87630
SUMMARY:SERATA CELTICA 
END:VEVENT
END:VCALENDAR