BEGIN:VCALENDAR
VERSION:2.0
PRODID:-//hacksw/handcal//NONSGML v1.0//EN
CALSCALE:GREGORIAN
BEGIN:VEVENT
DTSTART:20220308T204500Z
DTEND:20220308T214500Z
UID:86645-opensimworld.com
DTSTAMP:20260424T092159Z
LOCATION:astralia.eu:8002:AMSmediterrania
URL;VALUE=URI: http://opensimworld.com/event/86645
SUMMARY:FESTA DELLA DONNA
END:VEVENT
END:VCALENDAR