BEGIN:VCALENDAR
VERSION:2.0
PRODID:-//hacksw/handcal//NONSGML v1.0//EN
CALSCALE:GREGORIAN
BEGIN:VEVENT
DTSTART:20260428T183000Z
DTEND:20260428T193000Z
UID:135364-opensimworld.com
DTSTAMP:20260426T031620Z
LOCATION:bloodmoonpack.com:8002:Event Beach Club
URL;VALUE=URI: http://opensimworld.com/event/135364
SUMMARY:Event Beach Club @ DJ LOOVE
END:VEVENT
END:VCALENDAR