BEGIN:VCALENDAR
VERSION:2.0
PRODID:-//hacksw/handcal//NONSGML v1.0//EN
CALSCALE:GREGORIAN
BEGIN:VEVENT
DTSTART:20260425T200000Z
DTEND:20260425T210000Z
UID:135362-opensimworld.com
DTSTAMP:20260425T232048Z
LOCATION:junglefriends.opensim.fun:8002:Event Jungle
URL;VALUE=URI: http://opensimworld.com/event/135362
SUMMARY:DJ ROBINWORLD
END:VEVENT
END:VCALENDAR