BEGIN:VCALENDAR
VERSION:2.0
PRODID:-//hacksw/handcal//NONSGML v1.0//EN
CALSCALE:GREGORIAN
BEGIN:VEVENT
DTSTART:20260425T170000Z
DTEND:20260425T180000Z
UID:135361-opensimworld.com
DTSTAMP:20260425T214343Z
LOCATION:alternatemetaverse.com:8002:Empire Of Art
URL;VALUE=URI: http://opensimworld.com/event/135361
SUMMARY:[ FLAGSHIP EVENT | TORVEX LIVE ] — BEST OF THE PULSE
END:VEVENT
END:VCALENDAR