BEGIN:VCALENDAR
VERSION:2.0
PRODID:-//hacksw/handcal//NONSGML v1.0//EN
CALSCALE:GREGORIAN
BEGIN:VEVENT
DTSTART:20260516T100000Z
DTEND:20260516T110000Z
UID:135356-opensimworld.com
DTSTAMP:20260425T215619Z
LOCATION:alternatemetaverse.com:8002:Alternate Metaverse
URL;VALUE=URI: http://opensimworld.com/event/135356
SUMMARY:DJ TYLER @ The Moonlight
END:VEVENT
END:VCALENDAR