BEGIN:VCALENDAR
VERSION:2.0
PRODID:-//hacksw/handcal//NONSGML v1.0//EN
CALSCALE:GREGORIAN
BEGIN:VEVENT
DTSTART:20260515T130000Z
DTEND:20260515T140000Z
UID:135351-opensimworld.com
DTSTAMP:20260425T215618Z
LOCATION:alternatemetaverse.com:8002:Alternate Metaverse
URL;VALUE=URI: http://opensimworld.com/event/135351
SUMMARY:DJ SOFEE @ THE MORNING BREAKFAST SHOW
END:VEVENT
END:VCALENDAR