BEGIN:VCALENDAR
VERSION:2.0
PRODID:-//hacksw/handcal//NONSGML v1.0//EN
CALSCALE:GREGORIAN
BEGIN:VEVENT
DTSTART:20260514T160000Z
DTEND:20260514T170000Z
UID:135350-opensimworld.com
DTSTAMP:20260425T215618Z
LOCATION:alternatemetaverse.com:8002:Alternate Metaverse
URL;VALUE=URI: http://opensimworld.com/event/135350
SUMMARY:BINGO SOCIAL  @ AMV LANDING POINT
END:VEVENT
END:VCALENDAR