BEGIN:VCALENDAR
VERSION:2.0
PRODID:-//hacksw/handcal//NONSGML v1.0//EN
CALSCALE:GREGORIAN
BEGIN:VEVENT
DTSTART:20260513T100000Z
DTEND:20260513T110000Z
UID:135344-opensimworld.com
DTSTAMP:20260425T215618Z
LOCATION:alternatemetaverse.com:8002:Alternate Metaverse
URL;VALUE=URI: http://opensimworld.com/event/135344
SUMMARY:DJ DEBBIE@THE MOONLIGHT  AT THE AMV LANDING POINT
END:VEVENT
END:VCALENDAR