BEGIN:VCALENDAR
VERSION:2.0
PRODID:-//hacksw/handcal//NONSGML v1.0//EN
CALSCALE:GREGORIAN
BEGIN:VEVENT
DTSTART:20260513T130000Z
DTEND:20260513T140000Z
UID:135341-opensimworld.com
DTSTAMP:20260425T215620Z
LOCATION:alternatemetaverse.com:8002:Alternate Metaverse
URL;VALUE=URI: http://opensimworld.com/event/135341
SUMMARY:DJ Ted MORNING BREAKFAST SHOW AT AMV
END:VEVENT
END:VCALENDAR