BEGIN:VCALENDAR
VERSION:2.0
PRODID:-//hacksw/handcal//NONSGML v1.0//EN
CALSCALE:GREGORIAN
BEGIN:VEVENT
DTSTART:20260513T050000Z
DTEND:20260513T060000Z
UID:135339-opensimworld.com
DTSTAMP:20260425T215619Z
LOCATION:alternatemetaverse.com:8002:Alternate Metaverse
URL;VALUE=URI: http://opensimworld.com/event/135339
SUMMARY:DJ JEB TUESDAY LATENIGHT AT THE AMV LANDINGPOINT
END:VEVENT
END:VCALENDAR