BEGIN:VCALENDAR
VERSION:2.0
PRODID:-//hacksw/handcal//NONSGML v1.0//EN
CALSCALE:GREGORIAN
BEGIN:VEVENT
DTSTART:20260511T170000Z
DTEND:20260511T180000Z
UID:135334-opensimworld.com
DTSTAMP:20260425T215619Z
LOCATION:alternatemetaverse.com:8002:Alternate Metaverse
URL;VALUE=URI: http://opensimworld.com/event/135334
SUMMARY:GREEDY SOCIAL  @ AMV LANDING POINT
END:VEVENT
END:VCALENDAR