BEGIN:VCALENDAR
VERSION:2.0
PRODID:-//hacksw/handcal//NONSGML v1.0//EN
CALSCALE:GREGORIAN
BEGIN:VEVENT
DTSTART:20260511T130000Z
DTEND:20260511T140000Z
UID:135332-opensimworld.com
DTSTAMP:20260425T215619Z
LOCATION:alternatemetaverse.com:8002:Alternate Metaverse
URL;VALUE=URI: http://opensimworld.com/event/135332
SUMMARY:Dj Dave King @ Early Morning Breakfast show
END:VEVENT
END:VCALENDAR