BEGIN:VCALENDAR
VERSION:2.0
PRODID:-//hacksw/handcal//NONSGML v1.0//EN
CALSCALE:GREGORIAN
BEGIN:VEVENT
DTSTART:20260510T130000Z
DTEND:20260510T140000Z
UID:135330-opensimworld.com
DTSTAMP:20260425T215618Z
LOCATION:alternatemetaverse.com:8002:Alternate Metaverse
URL;VALUE=URI: http://opensimworld.com/event/135330
SUMMARY:DJ DEBBIE  @ TheMorning Breakfast Show at AMV
END:VEVENT
END:VCALENDAR