BEGIN:VCALENDAR
VERSION:2.0
PRODID:-//hacksw/handcal//NONSGML v1.0//EN
CALSCALE:GREGORIAN
BEGIN:VEVENT
DTSTART:20260425T200000Z
DTEND:20260425T210000Z
UID:135328-opensimworld.com
DTSTAMP:20260426T033838Z
LOCATION:hg.osgrid.org:80:CCClub
URL;VALUE=URI: http://opensimworld.com/event/135328
SUMMARY:Yachtparty
END:VEVENT
END:VCALENDAR