BEGIN:VCALENDAR
VERSION:2.0
PRODID:-//hacksw/handcal//NONSGML v1.0//EN
CALSCALE:GREGORIAN
BEGIN:VEVENT
DTSTART:20260425T200000Z
DTEND:20260425T210000Z
UID:135325-opensimworld.com
DTSTAMP:20260425T113338Z
LOCATION:hg.osgrid.org:80:Lovely
URL;VALUE=URI: http://opensimworld.com/event/135325
SUMMARY:12 GRID ONWARDS:  DOUBLE HEADER:AT LOVELY SPACE CLUB SHAKE IT UP-  DJ ROSA ALEKSEEV GOES AFRICAN+ ZEN LATE  MIX
END:VEVENT
END:VCALENDAR