BEGIN:VCALENDAR
VERSION:2.0
PRODID:-//hacksw/handcal//NONSGML v1.0//EN
CALSCALE:GREGORIAN
BEGIN:VEVENT
DTSTART:20260502T150000Z
DTEND:20260502T160000Z
UID:135323-opensimworld.com
DTSTAMP:20260425T105357Z
LOCATION:hg.osgrid.org:80:ALBA SEX CLUB
URL;VALUE=URI: http://opensimworld.com/event/135323
SUMMARY:INGER LOVEDAY LIVE CONCET ON SATURDAY MAY 2, 2026
END:VEVENT
END:VCALENDAR